BEGIN:VCALENDAR
VERSION:2.0
PRODID:-//Franklin County - ECPv6.15.12.2//NONSGML v1.0//EN
CALSCALE:GREGORIAN
METHOD:PUBLISH
X-WR-CALNAME:Franklin County
X-ORIGINAL-URL:https://www.franklincountypa.gov
X-WR-CALDESC:Events for Franklin County
REFRESH-INTERVAL;VALUE=DURATION:PT1H
X-Robots-Tag:noindex
X-PUBLISHED-TTL:PT1H
BEGIN:VTIMEZONE
TZID:America/Los_Angeles
BEGIN:DAYLIGHT
TZOFFSETFROM:-0800
TZOFFSETTO:-0700
TZNAME:PDT
DTSTART:20230312T100000
END:DAYLIGHT
BEGIN:STANDARD
TZOFFSETFROM:-0700
TZOFFSETTO:-0800
TZNAME:PST
DTSTART:20231105T090000
END:STANDARD
BEGIN:DAYLIGHT
TZOFFSETFROM:-0800
TZOFFSETTO:-0700
TZNAME:PDT
DTSTART:20240310T100000
END:DAYLIGHT
BEGIN:STANDARD
TZOFFSETFROM:-0700
TZOFFSETTO:-0800
TZNAME:PST
DTSTART:20241103T090000
END:STANDARD
BEGIN:DAYLIGHT
TZOFFSETFROM:-0800
TZOFFSETTO:-0700
TZNAME:PDT
DTSTART:20250309T100000
END:DAYLIGHT
BEGIN:STANDARD
TZOFFSETFROM:-0700
TZOFFSETTO:-0800
TZNAME:PST
DTSTART:20251102T090000
END:STANDARD
END:VTIMEZONE
BEGIN:VEVENT
DTSTART;TZID=America/Los_Angeles:20240118T093000
DTEND;TZID=America/Los_Angeles:20240118T103000
DTSTAMP:20260421T172416
CREATED:20241021T111933Z
LAST-MODIFIED:20241021T111933Z
UID:10000111-1705570200-1705573800@www.franklincountypa.gov
SUMMARY:TAC Meeting
DESCRIPTION:All FCMPO meetings have virtual and in-person options available for attendees unless otherwise noted. Meetings will be held in the Franklin County Administration Building\, located at 272 N. Second St.\, Chambersburg\, PA. Please contact the Planning Department at 717-261-3855 or planning@franklincountypa.gov for virtual log-in information.
URL:https://www.franklincountypa.gov/events_list/tac-meeting/
LOCATION:Franklin County Administration Building\, 272 North Second Street\, Chambersburg\, PA\, 17201\, United States
CATEGORIES:FCMPO,Meetings
END:VEVENT
END:VCALENDAR