BEGIN:VCALENDAR
VERSION:2.0
PRODID:-//Franklin County - ECPv6.15.12.2//NONSGML v1.0//EN
CALSCALE:GREGORIAN
METHOD:PUBLISH
X-WR-CALNAME:Franklin County
X-ORIGINAL-URL:https://www.franklincountypa.gov
X-WR-CALDESC:Events for Franklin County
REFRESH-INTERVAL;VALUE=DURATION:PT1H
X-Robots-Tag:noindex
X-PUBLISHED-TTL:PT1H
BEGIN:VTIMEZONE
TZID:America/Los_Angeles
BEGIN:DAYLIGHT
TZOFFSETFROM:-0800
TZOFFSETTO:-0700
TZNAME:PDT
DTSTART:20230312T100000
END:DAYLIGHT
BEGIN:STANDARD
TZOFFSETFROM:-0700
TZOFFSETTO:-0800
TZNAME:PST
DTSTART:20231105T090000
END:STANDARD
BEGIN:DAYLIGHT
TZOFFSETFROM:-0800
TZOFFSETTO:-0700
TZNAME:PDT
DTSTART:20240310T100000
END:DAYLIGHT
BEGIN:STANDARD
TZOFFSETFROM:-0700
TZOFFSETTO:-0800
TZNAME:PST
DTSTART:20241103T090000
END:STANDARD
BEGIN:DAYLIGHT
TZOFFSETFROM:-0800
TZOFFSETTO:-0700
TZNAME:PDT
DTSTART:20250309T100000
END:DAYLIGHT
BEGIN:STANDARD
TZOFFSETFROM:-0700
TZOFFSETTO:-0800
TZNAME:PST
DTSTART:20251102T090000
END:STANDARD
END:VTIMEZONE
BEGIN:VTIMEZONE
TZID:America/New_York
BEGIN:DAYLIGHT
TZOFFSETFROM:-0500
TZOFFSETTO:-0400
TZNAME:EDT
DTSTART:20230312T070000
END:DAYLIGHT
BEGIN:STANDARD
TZOFFSETFROM:-0400
TZOFFSETTO:-0500
TZNAME:EST
DTSTART:20231105T060000
END:STANDARD
BEGIN:DAYLIGHT
TZOFFSETFROM:-0500
TZOFFSETTO:-0400
TZNAME:EDT
DTSTART:20240310T070000
END:DAYLIGHT
BEGIN:STANDARD
TZOFFSETFROM:-0400
TZOFFSETTO:-0500
TZNAME:EST
DTSTART:20241103T060000
END:STANDARD
BEGIN:DAYLIGHT
TZOFFSETFROM:-0500
TZOFFSETTO:-0400
TZNAME:EDT
DTSTART:20250309T070000
END:DAYLIGHT
BEGIN:STANDARD
TZOFFSETFROM:-0400
TZOFFSETTO:-0500
TZNAME:EST
DTSTART:20251102T060000
END:STANDARD
BEGIN:DAYLIGHT
TZOFFSETFROM:-0500
TZOFFSETTO:-0400
TZNAME:EDT
DTSTART:20260308T070000
END:DAYLIGHT
BEGIN:STANDARD
TZOFFSETFROM:-0400
TZOFFSETTO:-0500
TZNAME:EST
DTSTART:20261101T060000
END:STANDARD
END:VTIMEZONE
BEGIN:VEVENT
DTSTART;TZID=America/Los_Angeles:20240215T100000
DTEND;TZID=America/Los_Angeles:20240215T110000
DTSTAMP:20260421T154522
CREATED:20241017T162718Z
LAST-MODIFIED:20241021T111728Z
UID:10000103-1707991200-1707994800@www.franklincountypa.gov
SUMMARY:Policy Board Meeting
DESCRIPTION:All FCMPO meetings have virtual and in-person options available for attendees unless otherwise noted. Meetings will be held in the Franklin County Administration Building\, located at 272 N. Second St.\, Chambersburg\, PA. Please contact the Planning Department at 717-261-3855 or planning@franklincountypa.gov for virtual log-in information.
URL:https://www.franklincountypa.gov/events_list/policy-board-meeting/
LOCATION:Franklin County Administration Building\, 272 North Second Street\, Chambersburg\, PA\, 17201\, United States
CATEGORIES:FCMPO,Meetings
END:VEVENT
BEGIN:VEVENT
DTSTART;TZID=America/Los_Angeles:20240418T140000
DTEND;TZID=America/Los_Angeles:20240418T150000
DTSTAMP:20260421T154522
CREATED:20241021T112031Z
LAST-MODIFIED:20241021T112031Z
UID:10000112-1713448800-1713452400@www.franklincountypa.gov
SUMMARY:TAC Meeting
DESCRIPTION:All FCMPO meetings have virtual and in-person options available for attendees unless otherwise noted. Meetings will be held in the Franklin County Administration Building\, located at 272 N. Second St.\, Chambersburg\, PA. Please contact the Planning Department at 717-261-3855 or planning@franklincountypa.gov for virtual log-in information.
URL:https://www.franklincountypa.gov/events_list/tac-meeting-2/
LOCATION:Franklin County Administration Building\, 272 North Second Street\, Chambersburg\, PA\, 17201\, United States
CATEGORIES:FCMPO,Meetings
END:VEVENT
BEGIN:VEVENT
DTSTART;TZID=America/Los_Angeles:20240516T100000
DTEND;TZID=America/Los_Angeles:20240516T110000
DTSTAMP:20260421T154522
CREATED:20241017T162831Z
LAST-MODIFIED:20241021T111800Z
UID:10000104-1715853600-1715857200@www.franklincountypa.gov
SUMMARY:Policy Board Meeting
DESCRIPTION:All FCMPO meetings have virtual and in-person options available for attendees unless otherwise noted. Meetings will be held in the Franklin County Administration Building\, located at 272 N. Second St.\, Chambersburg\, PA. Please contact the Planning Department at 717-261-3855 or planning@franklincountypa.gov for virtual log-in information.
URL:https://www.franklincountypa.gov/events_list/policy-board-meeting-2/
LOCATION:Franklin County Administration Building\, 272 North Second Street\, Chambersburg\, PA\, 17201\, United States
CATEGORIES:FCMPO,Meetings
END:VEVENT
BEGIN:VEVENT
DTSTART;TZID=America/Los_Angeles:20240718T093000
DTEND;TZID=America/Los_Angeles:20240718T103000
DTSTAMP:20260421T154522
CREATED:20241021T112122Z
LAST-MODIFIED:20241021T112122Z
UID:10000113-1721295000-1721298600@www.franklincountypa.gov
SUMMARY:TAC Meeting
DESCRIPTION:All FCMPO meetings have virtual and in-person options available for attendees unless otherwise noted. Meetings will be held in the Franklin County Administration Building\, located at 272 N. Second St.\, Chambersburg\, PA. Please contact the Planning Department at 717-261-3855 or planning@franklincountypa.gov for virtual log-in information.
URL:https://www.franklincountypa.gov/events_list/tac-meeting-3/
LOCATION:Franklin County Administration Building\, 272 North Second Street\, Chambersburg\, PA\, 17201\, United States
CATEGORIES:FCMPO,Meetings
END:VEVENT
BEGIN:VEVENT
DTSTART;TZID=America/Los_Angeles:20240724T093000
DTEND;TZID=America/Los_Angeles:20240724T113000
DTSTAMP:20260421T154522
CREATED:20241014T150811Z
LAST-MODIFIED:20241014T151246Z
UID:10000101-1721813400-1721820600@www.franklincountypa.gov
SUMMARY:Human Services Block Grant FY 2024-2025 Public Meeting No. 1
DESCRIPTION:The next Franklin County Human Services Block Grant Committee meeting is a public meeting that will be offered in person at the Human Services Building\, online via Google Meet\, or by phone. \nVideo call link: https://meet.google.com/uzf-ivww-waw  \nOr dial: (US) +1 224-801-4866 PIN: 975 051 709# \nMore phone numbers: https://tel.meet/uzf-ivww-waw?pin=4615024651115
URL:https://www.franklincountypa.gov/events_list/human-services-block-grant-fy-2024-2025-public-meeting-no-1/
LOCATION:Human Services Building\, 425 Franklin Farm Lane\, Chambersburg\, PA\, 17202\, United States
CATEGORIES:Human Services Block Grant Meetings
END:VEVENT
BEGIN:VEVENT
DTSTART;TZID=America/Los_Angeles:20240808T103000
DTEND;TZID=America/Los_Angeles:20240808T113000
DTSTAMP:20260421T154522
CREATED:20241014T151148Z
LAST-MODIFIED:20241014T151206Z
UID:10000102-1723113000-1723116600@www.franklincountypa.gov
SUMMARY:Human Services Block Grant Public Presentation
DESCRIPTION:The Human Services Block Grant Committee will make a public presentation of its recommendations for its FY 2024-2025 Community Human Services Plan during the Franklin County Commissioners’ weekly public board meeting.
URL:https://www.franklincountypa.gov/events_list/human-services-block-grant-public-presentation/
LOCATION:Franklin County Administration Building\, 272 North Second Street\, Chambersburg\, PA\, 17201\, United States
CATEGORIES:Human Services Block Grant Meetings
END:VEVENT
BEGIN:VEVENT
DTSTART;TZID=America/Los_Angeles:20240815T100000
DTEND;TZID=America/Los_Angeles:20240815T110000
DTSTAMP:20260421T154522
CREATED:20241017T163035Z
LAST-MODIFIED:20241021T111710Z
UID:10000105-1723716000-1723719600@www.franklincountypa.gov
SUMMARY:Policy Board Meeting
DESCRIPTION:All FCMPO meetings have virtual and in-person options available for attendees unless otherwise noted. Meetings will be held in the Franklin County Administration Building\, located at 272 N. Second St.\, Chambersburg\, PA. Please contact the Planning Department at 717-261-3855 or planning@franklincountypa.gov for virtual log-in information.
URL:https://www.franklincountypa.gov/events_list/policy-board-meeting-3/
LOCATION:Franklin County Administration Building\, 272 North Second Street\, Chambersburg\, PA\, 17201\, United States
CATEGORIES:FCMPO,Meetings
END:VEVENT
BEGIN:VEVENT
DTSTART;TZID=America/Los_Angeles:20241014T113000
DTEND;TZID=America/Los_Angeles:20241014T123000
DTSTAMP:20260421T154522
CREATED:20241021T215653Z
LAST-MODIFIED:20241021T215701Z
UID:10000115-1728905400-1728909000@www.franklincountypa.gov
SUMMARY:Franklin/Fulton Drug and Alcohol Advisory Board Meeting
DESCRIPTION:The Franklin/Fulton Drug & Alcohol Advisory Board holds its bimonthly meeting. Meetings are held in-person and virtually. For information on attending the meeting virtually\, contact Franklin/Fulton Drug and Alcohol at ffda@franklincountypa.gov.
URL:https://www.franklincountypa.gov/events_list/franklin-fulton-drug-and-alcohol-advisory-board-meeting/
LOCATION:Human Services Building\, 425 Franklin Farm Lane\, Chambersburg\, PA\, 17202\, United States
CATEGORIES:Drug and Alcohol Advisory Board Meeting
END:VEVENT
BEGIN:VEVENT
DTSTART;TZID=America/Los_Angeles:20241017T093000
DTEND;TZID=America/Los_Angeles:20241017T103000
DTSTAMP:20260421T154522
CREATED:20241021T112158Z
LAST-MODIFIED:20241218T162425Z
UID:10000114-1729157400-1729161000@www.franklincountypa.gov
SUMMARY:TAC Meeting
DESCRIPTION:All FCMPO meetings have virtual and in-person options available for attendees unless otherwise noted. Meetings will be held in the Franklin County Administration Building\, located at 272 N. Second St.\, Chambersburg\, PA. Please contact the Planning Department at 717-261-3855 or planning@franklincountypa.gov for virtual log-in information.
URL:https://www.franklincountypa.gov/events_list/tac-meeting-4/
LOCATION:Franklin County Administration Building\, 272 North Second Street\, Chambersburg\, PA\, 17201\, United States
CATEGORIES:FCMPO,Meetings
END:VEVENT
BEGIN:VEVENT
DTSTART;TZID=America/New_York:20241120T183000
DTEND;TZID=America/New_York:20241120T203000
DTSTAMP:20260421T154522
CREATED:20241019T162043Z
LAST-MODIFIED:20241113T135809Z
UID:10000106-1732127400-1732134600@www.franklincountypa.gov
SUMMARY:Franklin County Board of Commissioners’ Meeting
DESCRIPTION:Unless otherwise noted\, Franklin County Board of Commissioners’ public meetings are held every Wednesday at 10 a.m. until adjournment. On the third Wednesday of each month\, meetings are held at 6:30 p.m. until adjournment. \nMeetings are live streamed on YouTube. The stream is only live while meetings are in progress. \nAgendas are available the day before the meeting at the link above\, and meeting minutes are available here.https://lfweb.franklincountypa.gov/WebLink8public/Browse.aspx?startid=1018760&&dbid=0
URL:https://www.franklincountypa.gov/events_list/franklin-county-board-of-commissioners-meeting/2024-11-20/
LOCATION:Franklin County Administration Building\, 272 North Second Street\, Chambersburg\, PA\, 17201\, United States
CATEGORIES:Commissioners Board Meeting,Meetings
END:VEVENT
BEGIN:VEVENT
DTSTART;TZID=America/New_York:20241121T100000
DTEND;TZID=America/New_York:20241121T113000
DTSTAMP:20260421T154522
CREATED:20241019T162157Z
LAST-MODIFIED:20241113T132221Z
UID:10000107-1732183200-1732188600@www.franklincountypa.gov
SUMMARY:Franklin County Metropolitan Planning Organization Policy Board Meeting
DESCRIPTION:All meetings of the Franklin County Metropolitan Planning Organization Board will be held at 10 a.m. with in-person and virtual options for attendees. Please contact the Franklin County Planning Department at planning@franklincountypa.gov or (717) 261-3855 for information on participating virtually.
URL:https://www.franklincountypa.gov/events_list/franklin-county-metropolitan-planning-organization-board-meeting/
LOCATION:Franklin County Administration Building\, 272 North Second Street\, Chambersburg\, PA\, 17201\, United States
CATEGORIES:FCMPO,Meetings
END:VEVENT
BEGIN:VEVENT
DTSTART;TZID=America/Los_Angeles:20241121T153000
DTEND;TZID=America/Los_Angeles:20241121T170000
DTSTAMP:20260421T154522
CREATED:20241019T162248Z
LAST-MODIFIED:20241115T060249Z
UID:10000108-1732203000-1732208400@www.franklincountypa.gov
SUMMARY:Franklin/Fulton County Mental Health/Intellectual & Developmental Disabilities/Early Intervention Advisory Board Meeting
DESCRIPTION:January\, March and November 2024 meetings will be held virtually. If interested in participating in a meeting\, contact mhiddei@franklincountypa.gov. The public is welcome to attend. \nFranklin/Fulton Mental Health/Intellectual & Developmental Disabilities/Early Intervention partners with the community to develop and assure the availability of quality MH/IDD/EI services and supports for individuals and families.
URL:https://www.franklincountypa.gov/events_list/franklin-fulton-county-mental-health-intellectual-developmental-disabilities-early-intervention-advisory-board-meeting/
LOCATION:PA
CATEGORIES:Meetings
END:VEVENT
BEGIN:VEVENT
DTSTART;TZID=America/New_York:20241125T093000
DTEND;TZID=America/New_York:20241125T110000
DTSTAMP:20260421T154522
CREATED:20241115T205835Z
LAST-MODIFIED:20241125T191917Z
UID:10000150-1732527000-1732532400@www.franklincountypa.gov
SUMMARY:Human Services Block Grant Committee Meeting
DESCRIPTION:The Franklin County Human Services Block Grant Committee will hold a public meeting on Monday\, November 25\, 2024 at 9:30 a.m. The meeting will be held virtually. \nConference Call/Join with Google Meet Conferencing\nMeeting ID: https://meet.google.com/ooi-wbpp-ovh\n(or)\nBy phone:\n+1 470-655-0565\nPIN: 698 557 114#
URL:https://www.franklincountypa.gov/events_list/human-services-block-grant-committee-meeting/
LOCATION:https://www.franklincountypa.gov/events_list/human-services-block-grant-committee-meeting/
CATEGORIES:Human Services Block Grant Meetings
END:VEVENT
BEGIN:VEVENT
DTSTART;TZID=America/New_York:20241127T100000
DTEND;TZID=America/New_York:20241127T120000
DTSTAMP:20260421T154522
CREATED:20241019T162342Z
LAST-MODIFIED:20241118T163344Z
UID:10000109-1732701600-1732708800@www.franklincountypa.gov
SUMMARY:Franklin County Board of Commissioners’ Meeting
DESCRIPTION:Unless otherwise noted\, Franklin County Board of Commissioners’ public meetings are held every Wednesday at 10 a.m. until adjournment. On the third Wednesday of each month\, meetings are held at 6:30 p.m. until adjournment. \nMeetings are live streamed on YouTube. The stream is only live while meetings are in progress. \nAgendas are available the day before the meeting at the link above\, and meeting minutes are available here.
URL:https://www.franklincountypa.gov/events_list/franklin-county-board-of-commissioners-meeting-2/
LOCATION:Franklin County Administration Building\, 272 North Second Street\, Chambersburg\, PA\, 17201\, United States
CATEGORIES:Commissioners Board Meeting
END:VEVENT
BEGIN:VEVENT
DTSTART;TZID=America/New_York:20241128T000000
DTEND;TZID=America/New_York:20241128T235959
DTSTAMP:20260421T154522
CREATED:20241111T023019Z
LAST-MODIFIED:20241113T131754Z
UID:10000120-1732752000-1732838399@www.franklincountypa.gov
SUMMARY:Thanksgiving: Franklin County Offices Closed
DESCRIPTION:All Franklin County offices will be closed Thursday\, November 28\, 2024\, and Friday\, November 29\, 2024\, in observance of the Thanksgiving holiday.
URL:https://www.franklincountypa.gov/events_list/thanksgiving-franklin-county-offices-closed/
LOCATION:PA
CATEGORIES:Holiday,Offices Closed
END:VEVENT
BEGIN:VEVENT
DTSTART;TZID=America/New_York:20241129T000000
DTEND;TZID=America/New_York:20241129T235959
DTSTAMP:20260421T154522
CREATED:20241111T023210Z
LAST-MODIFIED:20241113T131746Z
UID:10000121-1732838400-1732924799@www.franklincountypa.gov
SUMMARY:Thanksgiving: Franklin County Offices Closed
DESCRIPTION:All Franklin County offices will be closed Thursday\, November 28\, 2024\, and Friday\, November 29\, 2024\, in observance of the Thanksgiving holiday.
URL:https://www.franklincountypa.gov/events_list/thanksgiving-franklin-county-offices-closed-2/
LOCATION:PA
CATEGORIES:Offices Closed
END:VEVENT
BEGIN:VEVENT
DTSTART;TZID=America/New_York:20241204T100000
DTEND;TZID=America/New_York:20241204T120000
DTSTAMP:20260421T154522
CREATED:20241113T141154Z
LAST-MODIFIED:20241113T141154Z
UID:10000138-1733306400-1733313600@www.franklincountypa.gov
SUMMARY:Franklin County Board of Commissioners’ Meeting
DESCRIPTION:Unless otherwise noted\, Franklin County Board of Commissioners’ public meetings are held every Wednesday at 10 a.m. until adjournment. On the third Wednesday of each month\, meetings are held at 6:30 p.m. until adjournment. \nMeetings are live streamed on YouTube. The stream is only live while meetings are in progress. \nAgendas are available the day before the meeting at the link above\, and meeting minutes are available here.
URL:https://www.franklincountypa.gov/events_list/franklin-county-board-of-commissioners-meeting-3/
LOCATION:Franklin County Administration Building\, 272 North Second Street\, Chambersburg\, PA\, 17201\, United States
CATEGORIES:Commissioners Board Meeting
END:VEVENT
BEGIN:VEVENT
DTSTART;TZID=America/New_York:20241205T090000
DTEND;TZID=America/New_York:20241205T110000
DTSTAMP:20260421T154522
CREATED:20241113T142356Z
LAST-MODIFIED:20241113T142356Z
UID:10000141-1733389200-1733396400@www.franklincountypa.gov
SUMMARY:Franklin County Agricultural Land Preservation Board Meeting
DESCRIPTION:The Franklin County Agricultural Land Preservation Board meets quarterly on the first Thursday of March\, June\, September and December. All meetings will be held in person at the Franklin County Administration Building. Any changes to the meeting format will be posted on the Franklin County website 48 hours prior to the meeting. For more information\, contact the Franklin County Planning Department at (717) 261-3855 or planning@franklincountypa.gov.
URL:https://www.franklincountypa.gov/events_list/franklin-county-agricultural-land-preservation-board-meeting/
LOCATION:Franklin County Administration Building\, 272 North Second Street\, Chambersburg\, PA\, 17201\, United States
CATEGORIES:Agricultural Land Preservation,Meetings
END:VEVENT
BEGIN:VEVENT
DTSTART;TZID=America/Los_Angeles:20241209T113000
DTEND;TZID=America/Los_Angeles:20241209T123000
DTSTAMP:20260421T154522
CREATED:20241021T215817Z
LAST-MODIFIED:20241210T074527Z
UID:10000116-1733743800-1733747400@www.franklincountypa.gov
SUMMARY:Franklin/Fulton Drug & Alcohol Advisory Board Meeting
DESCRIPTION:The Franklin/Fulton Drug & Alcohol Advisory Board holds its bimonthly meeting. Meetings are held in-person and virtually. For information on attending the meeting virtually\, contact Franklin/Fulton Drug and Alcohol at ffda@franklincountypa.gov.
URL:https://www.franklincountypa.gov/events_list/franklin-fulton-drug-alcohol-advisory-board-meeting/
LOCATION:Human Services Building\, 425 Franklin Farm Lane\, Chambersburg\, PA\, 17202\, United States
CATEGORIES:Drug and Alcohol Advisory Board Meeting
END:VEVENT
BEGIN:VEVENT
DTSTART;TZID=America/New_York:20241211T100000
DTEND;TZID=America/New_York:20241211T120000
DTSTAMP:20260421T154522
CREATED:20241113T141218Z
LAST-MODIFIED:20241113T141218Z
UID:10000139-1733911200-1733918400@www.franklincountypa.gov
SUMMARY:Franklin County Board of Commissioners’ Meeting
DESCRIPTION:Unless otherwise noted\, Franklin County Board of Commissioners’ public meetings are held every Wednesday at 10 a.m. until adjournment. On the third Wednesday of each month\, meetings are held at 6:30 p.m. until adjournment. \nMeetings are live streamed on YouTube. The stream is only live while meetings are in progress. \nAgendas are available the day before the meeting at the link above\, and meeting minutes are available here.
URL:https://www.franklincountypa.gov/events_list/franklin-county-board-of-commissioners-meeting-4/
LOCATION:Franklin County Administration Building\, 272 North Second Street\, Chambersburg\, PA\, 17201\, United States
CATEGORIES:Commissioners Board Meeting
END:VEVENT
BEGIN:VEVENT
DTSTART;TZID=America/New_York:20241218T183000
DTEND;TZID=America/New_York:20241218T203000
DTSTAMP:20260421T154522
CREATED:20241019T162043Z
LAST-MODIFIED:20241113T135809Z
UID:10000125-1734546600-1734553800@www.franklincountypa.gov
SUMMARY:Franklin County Board of Commissioners’ Meeting
DESCRIPTION:Unless otherwise noted\, Franklin County Board of Commissioners’ public meetings are held every Wednesday at 10 a.m. until adjournment. On the third Wednesday of each month\, meetings are held at 6:30 p.m. until adjournment. \nMeetings are live streamed on YouTube. The stream is only live while meetings are in progress. \nAgendas are available the day before the meeting at the link above\, and meeting minutes are available here.https://lfweb.franklincountypa.gov/WebLink8public/Browse.aspx?startid=1018760&&dbid=0
URL:https://www.franklincountypa.gov/events_list/franklin-county-board-of-commissioners-meeting/2024-12-18/
LOCATION:Franklin County Administration Building\, 272 North Second Street\, Chambersburg\, PA\, 17201\, United States
CATEGORIES:Commissioners Board Meeting,Meetings
END:VEVENT
BEGIN:VEVENT
DTSTART;TZID=America/New_York:20241224T000000
DTEND;TZID=America/New_York:20241224T235959
DTSTAMP:20260421T154522
CREATED:20241113T131442Z
LAST-MODIFIED:20241113T131727Z
UID:10000122-1734998400-1735084799@www.franklincountypa.gov
SUMMARY:Christmas Eve: Franklin County Offices Closed
DESCRIPTION:All Franklin County offices will be closed Tuesday\, December 24\, 2024\, and Wednesday\, December 25\, 2024\, in observance of the Christmas holiday.
URL:https://www.franklincountypa.gov/events_list/christmas-eve-franklin-county-offices-closed/
LOCATION:PA
CATEGORIES:Holiday,Offices Closed
END:VEVENT
BEGIN:VEVENT
DTSTART;TZID=America/New_York:20241225T000000
DTEND;TZID=America/New_York:20241225T235959
DTSTAMP:20260421T154522
CREATED:20241113T131705Z
LAST-MODIFIED:20241113T131705Z
UID:10000123-1735084800-1735171199@www.franklincountypa.gov
SUMMARY:Christmas: Franklin County Offices Closed
DESCRIPTION:All Franklin County offices will be closed Tuesday\, December 24\, 2024\, and Wednesday\, December 25\, 2024\, in observance of the Christmas holiday.
URL:https://www.franklincountypa.gov/events_list/christmas-franklin-county-offices-closed/
LOCATION:PA
CATEGORIES:Holiday,Offices Closed
END:VEVENT
BEGIN:VEVENT
DTSTART;TZID=America/New_York:20241227T100000
DTEND;TZID=America/New_York:20241227T120000
DTSTAMP:20260421T154522
CREATED:20241113T141245Z
LAST-MODIFIED:20241226T180713Z
UID:10000140-1735293600-1735300800@www.franklincountypa.gov
SUMMARY:Franklin County Board of Commissioners’ Meeting
DESCRIPTION:Unless otherwise noted\, Franklin County Board of Commissioners’ public meetings are held every Wednesday at 10 a.m. until adjournment. On the third Wednesday of each month\, meetings are held at 6:30 p.m. until adjournment. \nMeetings are live streamed on YouTube. The stream is only live while meetings are in progress. \nAgendas are available the day before the meeting at the link above\, and meeting minutes are available here.
URL:https://www.franklincountypa.gov/events_list/franklin-county-board-of-commissioners-meeting-5/
LOCATION:Franklin County Administration Building\, 272 North Second Street\, Chambersburg\, PA\, 17201\, United States
CATEGORIES:Commissioners Board Meeting
END:VEVENT
BEGIN:VEVENT
DTSTART;TZID=America/New_York:20250101T000000
DTEND;TZID=America/New_York:20250101T235959
DTSTAMP:20260421T154522
CREATED:20241113T131920Z
LAST-MODIFIED:20241113T131920Z
UID:10000124-1735689600-1735775999@www.franklincountypa.gov
SUMMARY:New Year's Day: Franklin County Offices Closed
DESCRIPTION:All Franklin County offices will be closed Wednesday\, January 1\, 2025\,  in observance of the New Year’s Day holiday.
URL:https://www.franklincountypa.gov/events_list/new-years-day-franklin-county-offices-closed/
LOCATION:PA
CATEGORIES:Holiday,Offices Closed
END:VEVENT
BEGIN:VEVENT
DTSTART;TZID=America/New_York:20250103T100000
DTEND;TZID=America/New_York:20250103T120000
DTSTAMP:20260421T154522
CREATED:20241122T201445Z
LAST-MODIFIED:20241224T183919Z
UID:10000151-1735898400-1735905600@www.franklincountypa.gov
SUMMARY:Franklin County Board of Commissioners’ Meeting
DESCRIPTION:Unless otherwise noted\, Franklin County Board of Commissioners’ public meetings are held every Wednesday at 10 a.m. until adjournment. On the third Wednesday of each month\, meetings are held at 6:30 p.m. until adjournment. \nMeetings are live streamed on YouTube. The stream is only live while meetings are in progress. \nAgendas are available the day before the meeting at the link above\, and meeting minutes are available here.
URL:https://www.franklincountypa.gov/events_list/franklin-county-board-of-commissioners-meeting-6/
LOCATION:Franklin County Administration Building\, 272 North Second Street\, Chambersburg\, PA\, 17201\, United States
CATEGORIES:Commissioners Board Meeting
END:VEVENT
BEGIN:VEVENT
DTSTART;TZID=America/New_York:20250106T100000
DTEND;TZID=America/New_York:20250106T120000
DTSTAMP:20260421T154522
CREATED:20250103T162523Z
LAST-MODIFIED:20250103T162949Z
UID:10000234-1736157600-1736164800@www.franklincountypa.gov
SUMMARY:Franklin County Commissioners' Organization Meeting
DESCRIPTION:The Franklin County Commissioners will hold the county’s 2025 Organization meeting beginning at 10 a.m. until adjournment. The meeting will be live streamed on YouTube. The stream will only be live while the meeting is in progress.
URL:https://www.franklincountypa.gov/events_list/franklin-county-commissioners-organization-meeting/
LOCATION:Franklin County Administration Building\, 272 North Second Street\, Chambersburg\, PA\, 17201\, United States
CATEGORIES:Commissioners Board Meeting
END:VEVENT
BEGIN:VEVENT
DTSTART;TZID=America/New_York:20250107T173000
DTEND;TZID=America/New_York:20250107T183000
DTSTAMP:20260421T154522
CREATED:20241223T133952Z
LAST-MODIFIED:20241223T134116Z
UID:10000164-1736271000-1736274600@www.franklincountypa.gov
SUMMARY:Open House: Cumberland Valley Rail Trail Expansion
DESCRIPTION:Join the Franklin County Metropolitan Planning Organization (FCMPO) for a virtual open house to discuss the Cumberland Valley Rail Trail expansion project. During the open house\, participants will hear updates on the progress of the CVRT project\, gather public input and discuss potential trail alignments. Attendees will also have the opportunity to view conceptual trail designs\, discuss favored amenities for the trail and review proposed alignments. Representatives from FCMPO and project partners will be available to answer questions and receive feedback. \nTo join the meeting using Microsoft Teams: \n\nVisit https://bit.ly/3BGPaL8\nEnter meeting ID 218 330 098 65 \nEnter passcode JV6jC2Tq \n\nTo join by phone: \n\nDial +1 412-634-6334\nUse conference ID 485 388 57#\n\nTo receive a calendar invite for the event\, contact Matthew Romero\, Franklin County Community Planner\, at mbromero@franklincountypa.gov. \n 
URL:https://www.franklincountypa.gov/events_list/open-house-cumberland-valley-rail-trail-expansion/
LOCATION:https://www.franklincountypa.gov/events_list/open-house-cumberland-valley-rail-trail-expansion/
CATEGORIES:FCMPO
ORGANIZER;CN="Franklin County Planning Department":MAILTO:planning@franklincountypa.gov
END:VEVENT
BEGIN:VEVENT
DTSTART;TZID=America/New_York:20250108T100000
DTEND;TZID=America/New_York:20250108T120000
DTSTAMP:20260421T154522
CREATED:20250106T183853Z
LAST-MODIFIED:20241223T165308Z
UID:10000165-1736330400-1736337600@www.franklincountypa.gov
SUMMARY:Franklin County Board of Commissioners’ Meeting
DESCRIPTION:Unless otherwise noted\, Franklin County Board of Commissioners’ public meetings are held every Wednesday at 10 a.m. until adjournment. On the third Wednesday of each month\, meetings are held at 6:30 p.m. until adjournment. \nMeetings are live streamed on YouTube. The stream is only live while meetings are in progress. \nAgendas are available the day before the meeting at the link above\, and meeting minutes are available here.
URL:https://www.franklincountypa.gov/events_list/franklin-county-board-of-commissioners-meeting-7/
LOCATION:Franklin County Administration Building\, 272 North Second Street\, Chambersburg\, PA\, 17201\, United States
CATEGORIES:Commissioners Board Meeting
END:VEVENT
BEGIN:VEVENT
DTSTART;TZID=America/New_York:20250115T183000
DTEND;TZID=America/New_York:20250115T203000
DTSTAMP:20260421T154522
CREATED:20250106T185041Z
LAST-MODIFIED:20250106T192239Z
UID:10000166-1736965800-1736973000@www.franklincountypa.gov
SUMMARY:Franklin County Board of Commissioners’ Meeting
DESCRIPTION:Unless otherwise noted\, Franklin County Board of Commissioners’ public meetings are held every Wednesday at 10 a.m. until adjournment. On the third Wednesday of each month\, meetings are held at 6:30 p.m. until adjournment. \nMeetings are live streamed on YouTube. The stream is only live while meetings are in progress. \nAgendas are available the day before the meeting at the link above\, and meeting minutes are available here.
URL:https://www.franklincountypa.gov/events_list/franklin-county-board-of-commissioners-meeting-8/
LOCATION:Franklin County Administration Building\, 272 North Second Street\, Chambersburg\, PA\, 17201\, United States
CATEGORIES:Commissioners Board Meeting
END:VEVENT
END:VCALENDAR